BEGIN:VCALENDAR
VERSION:2.0
PRODID:-//5Ritmos con Irene H. Sánchez - ECPv5.14.1//NONSGML v1.0//EN
CALSCALE:GREGORIAN
METHOD:PUBLISH
X-WR-CALNAME:5Ritmos con Irene H. Sánchez
X-ORIGINAL-URL:https://irene5ritmos.com
X-WR-CALDESC:Eventos para 5Ritmos con Irene H. Sánchez
BEGIN:VTIMEZONE
TZID:Europe/Madrid
BEGIN:DAYLIGHT
TZOFFSETFROM:+0100
TZOFFSETTO:+0200
TZNAME:CEST
DTSTART:20180325T010000
END:DAYLIGHT
BEGIN:STANDARD
TZOFFSETFROM:+0200
TZOFFSETTO:+0100
TZNAME:CET
DTSTART:20181028T010000
END:STANDARD
END:VTIMEZONE
BEGIN:VEVENT
DTSTART;TZID=Europe/Madrid:20180625T180000
DTEND;TZID=Europe/Madrid:20180625T200000
DTSTAMP:20260424T065751
CREATED:20170825T173617Z
LAST-MODIFIED:20170825T173617Z
UID:1479-1529949600-1529956800@irene5ritmos.com
SUMMARY:5R en profundidad REDES Murcia
DESCRIPTION:REDES
URL:https://irene5ritmos.com/event/5r-en-profundidad-redes-murcia-28
LOCATION:REDES Instituto Sistémico de Murcia\, Callejón de Burruezo 1\, 5º A\, Murcia\, Murcia\, 30005\, España
END:VEVENT
END:VCALENDAR