BEGIN:VCALENDAR
VERSION:2.0
PRODID:-//5Ritmos con Irene H. Sánchez - ECPv5.14.1//NONSGML v1.0//EN
CALSCALE:GREGORIAN
METHOD:PUBLISH
X-WR-CALNAME:5Ritmos con Irene H. Sánchez
X-ORIGINAL-URL:https://irene5ritmos.com
X-WR-CALDESC:Eventos para 5Ritmos con Irene H. Sánchez
BEGIN:VTIMEZONE
TZID:Europe/Madrid
BEGIN:DAYLIGHT
TZOFFSETFROM:+0100
TZOFFSETTO:+0200
TZNAME:CEST
DTSTART:20160327T010000
END:DAYLIGHT
BEGIN:STANDARD
TZOFFSETFROM:+0200
TZOFFSETTO:+0100
TZNAME:CET
DTSTART:20161030T010000
END:STANDARD
END:VTIMEZONE
BEGIN:VEVENT
DTSTART;TZID=Europe/Madrid:20160603T080000
DTEND;TZID=Europe/Madrid:20160603T170000
DTSTAMP:20260424T175904
CREATED:20160603T075751Z
LAST-MODIFIED:20160603T075751Z
UID:550-1464940800-1464973200@irene5ritmos.com
SUMMARY:5Ritmos en Madrid: Pausa en Movimiento
DESCRIPTION:#PAUSAEnMovimiento Última clase de #5Ritmos en#Madrid \n¡Vente a despedir el curso con ritmo\, movimiento\, sudor y mucha respiración! \nJueves 9 de junio\, 20.15h en la ACPD Asociación Cultural por la Danza \nConfirma asistencia en:\nhttp://goo.gl/forms/hmGIXvt9zqI7c2f13 \nEn el ritmo de la Quietud\, por fin descansamos. Nos dejamos ser respirados y movidos sin ningún esfuerzo. Entramos en el estado de meditación\, del ser. Expandiéndonos profundo dentro\, y lejos fuera. En eso que es más grande y nos sostiene. \nContacto: Azahara Galan 5ritmosmadrid@gmail.com 622721209 \nInformación: http://bit.ly/1UkZSnn
URL:https://irene5ritmos.com/event/5ritmos-en-madrid-pausa-en-movimiento
LOCATION:Asociación por la danza\, C/Conde Vistahermosa\, 9\, 28019\, Madrid\, Madrid\, Madrid\, 28019\, España
ORGANIZER;CN="Azahara%20Galan":MAILTO:5ritmosmadrid@gmail.com
END:VEVENT
END:VCALENDAR