BEGIN:VCALENDAR
VERSION:2.0
PRODID:-//5Ritmos con Irene H. Sánchez - ECPv5.14.1//NONSGML v1.0//EN
CALSCALE:GREGORIAN
METHOD:PUBLISH
X-WR-CALNAME:5Ritmos con Irene H. Sánchez
X-ORIGINAL-URL:https://irene5ritmos.com
X-WR-CALDESC:Eventos para 5Ritmos con Irene H. Sánchez
BEGIN:VTIMEZONE
TZID:Europe/Madrid
BEGIN:DAYLIGHT
TZOFFSETFROM:+0100
TZOFFSETTO:+0200
TZNAME:CEST
DTSTART:20160327T010000
END:DAYLIGHT
BEGIN:STANDARD
TZOFFSETFROM:+0200
TZOFFSETTO:+0100
TZNAME:CET
DTSTART:20161030T010000
END:STANDARD
END:VTIMEZONE
BEGIN:VEVENT
DTSTART;TZID=Europe/Madrid:20160622T180000
DTEND;TZID=Europe/Madrid:20160622T200000
DTSTAMP:20260424T003435
CREATED:20160321T155457Z
LAST-MODIFIED:20160509T151808Z
UID:480-1466618400-1466625600@irene5ritmos.com
SUMMARY:5Ritmos en Profundidad: REDES Murcia
DESCRIPTION:Grupos semanales en REDES Intituto Sistémico de Murcia \nMás info aquí \nSesiones con grupo pequeño (5-10 personas) para practicar los 5Ritmos en un espacio íntimo\, seguro y de confianza. \nLunes 18-20h \nMiércoles 18-20h \nPosible nuevo grupo de mañanas (miércoles 10-12h) \nPrecio: Mensual 60/45 euros estud\, desemp + 65  Sesión suelta 15/12 euros estud\, desemp +65 \nLos grupos son un formato estable de trabajo con las mismas personas. Hasta que se llenen (quedan alguna plaza en el grupo de lunes y varias los miércoles) puedes venir a probar el formato y recuperar clase si no has podido el viernes con los bonos de 5 o 10 sesiones (más info AQUÍ) o pagando la sesión suelta. \nEs necesario confirmar asistencia por whatsapp o llamando al 651733875
URL:https://irene5ritmos.com/event/5ritmos-en-profundidad-redes-murcia-17
LOCATION:REDES Instituto Sistémico de Murcia\, Callejón de Burruezo 1\, 5º A\, Murcia\, Murcia\, 30005\, España
END:VEVENT
END:VCALENDAR