BEGIN:VCALENDAR
VERSION:2.0
PRODID:-//5Ritmos con Irene H. Sánchez - ECPv5.14.1//NONSGML v1.0//EN
CALSCALE:GREGORIAN
METHOD:PUBLISH
X-WR-CALNAME:5Ritmos con Irene H. Sánchez
X-ORIGINAL-URL:https://irene5ritmos.com
X-WR-CALDESC:Eventos para 5Ritmos con Irene H. Sánchez
BEGIN:VTIMEZONE
TZID:Europe/Madrid
BEGIN:DAYLIGHT
TZOFFSETFROM:+0100
TZOFFSETTO:+0200
TZNAME:CEST
DTSTART:20180325T010000
END:DAYLIGHT
BEGIN:STANDARD
TZOFFSETFROM:+0200
TZOFFSETTO:+0100
TZNAME:CET
DTSTART:20181028T010000
END:STANDARD
END:VTIMEZONE
BEGIN:VEVENT
DTSTART;TZID=Europe/Madrid:20180912T180000
DTEND;TZID=Europe/Madrid:20180912T200000
DTSTAMP:20260423T195030
CREATED:20180822T085711Z
LAST-MODIFIED:20180822T085711Z
UID:1887-1536775200-1536782400@irene5ritmos.com
SUMMARY:5Ritmos en REDES
DESCRIPTION:MURCIA 18-19
URL:https://irene5ritmos.com/event/5ritmos-en-redes-4
END:VEVENT
END:VCALENDAR