BEGIN:VCALENDAR
VERSION:2.0
PRODID:-//5Ritmos con Irene H. Sánchez - ECPv5.14.1//NONSGML v1.0//EN
CALSCALE:GREGORIAN
METHOD:PUBLISH
X-WR-CALNAME:5Ritmos con Irene H. Sánchez
X-ORIGINAL-URL:https://irene5ritmos.com
X-WR-CALDESC:Eventos para 5Ritmos con Irene H. Sánchez
BEGIN:VTIMEZONE
TZID:Europe/Madrid
BEGIN:DAYLIGHT
TZOFFSETFROM:+0100
TZOFFSETTO:+0200
TZNAME:CEST
DTSTART:20170326T010000
END:DAYLIGHT
BEGIN:STANDARD
TZOFFSETFROM:+0200
TZOFFSETTO:+0100
TZNAME:CET
DTSTART:20171029T010000
END:STANDARD
END:VTIMEZONE
BEGIN:VEVENT
DTSTART;TZID=Europe/Madrid:20170210T201500
DTEND;TZID=Europe/Madrid:20170210T220000
DTSTAMP:20260423T124714
CREATED:20170124T155652Z
LAST-MODIFIED:20170203T151438Z
UID:987-1486757700-1486764000@irene5ritmos.com
SUMMARY:5Ritmos Sweat con Azahara OLIMPIC Murcia
DESCRIPTION:¡Queridos danzantes! No podré estar con vosotros los viernes 10 y 17 de febrero. Así que he invitado a Azahara Galan para que sostenga espacio de práctica\, danza y sudor en comunidad hasta mi vuelta. ¡Estoy muy contenta de que podáis danzar al son de otro sabor y seguir practicando la «disciplina de ser libres» en la pista! \nTenéis toda la información en este evento. Si tienes alguna duda puedes consultarme en: redesmurcia5ritmos@gmail.com \n¿Qué es un Sweat? El Sweat de 5Ritmos® es un espacio para encontrarte con tu cuerpo\, tu movimiento\, tu respiracion y con la de otros. Es un espacio para «practicar la práctica» de los 5Ritmos® sin una guía verbal\, es un laboratorio sostenido por el poder de la Ola\, por el SpaceHolder y por el grupo. \nEn el comienzo de cada clase hay una demostracion física de los cinco Ritmos\, seguido de una Ola de calentamiento que nos invita a seguir navegando en una Ola final. \nNo es necesaria experiencia previa\, conocimientos técnicos ni condición física. Sólo tus ganas de explorar tu propio movimiento en compañía del grupo. \nPrecios:\nSesión suelta: 15/12 euros desemp\, estud\, +65 (¡paga la mitad si es tu primera vez con los 5Ritmos!)\nBono de 10 sesiones: 120/110 euros desemp\, estud\, +65\nBono de 5 sesiones: 60/55 euros desemp\, estud\, +65\nGratuito para abonados del Olimpic Club \nNo es necesaria inscripción previa ¡Ven directamente el día de la sesión\, 10 minutos antes para hacer el pago y empezar a calentar! \n¿Qué llevar? Ropa cómoda\, varias capas\, calcetines (bailamos descalzos) y agua. \n¿Cómo llegar? Es fácil aparcar\, también puedes venir en bici (a 10 minutos del centro) o coger el tranvía dirección Centros Comerciales\, parada: Los Cubos (desde la parada hay unos 8 minutos andando). \nNo es necesaria experiencia previa\, conocimientos técnicos ni condición física. Sólo tus ganas de explorar tu propio movimiento en compañía del grupo. \nAzahara Galan se tituló como SpaceHolder de 5 Ritmos® en 2016 y lleva desde 2011 inmersa en la práctica en el escenario nacional e internacional\, y en la difusión y organización de talleres de 5Ritmos en Madrid desde el 2016. Es Licenciada en Económicas y Postgrado en Danza Movimiento Terapia. Facilita talleres de creatividad y movimiento en inglés con familias y con niños. \nLa práctica del movimiento de 5Ritmos® es una meditación dinámica del movimiento basado en el cuerpo. Los 5 ritmos Son Fluido\, Staccato\, Caos\, Lírico y Quietud. Cinco diferentes cualidades de movimiento y modos de expresión. Juntos crean un mapa y un camino para la exploración y la encarnación de las formas de ser humano. www.5rhythms.com/es/ \n¿Qué es este espacio de los viernes con los 5Ritmos? Un lugar para bailar y meditar en comunidad con propuestas de trabajo pautadas y espacios de exploración libre. \nPuedes venir a sesiones sueltas o a los Ciclos Completos de 5 sesiones seguidas. Hay una continuidad en el trabajo pero cada clase está diseñada para que puedas participar de forma suelta sin tener experiencia previa o profundizar en tu propia práctica. \nInformación: http://irene5ritmos.com/viernes-en-el-olimpic-club-clases-semanales-de-5ritmos-con-irene
URL:https://irene5ritmos.com/event/5ritmos-sweat-con-azahara-olimpic-murcia
LOCATION:Olimpic Club\,  Senda de Granada\, 166\,\, Murcia\, Murcia\, 30007\, España
END:VEVENT
END:VCALENDAR