BEGIN:VCALENDAR
VERSION:2.0
PRODID:-//5Ritmos con Irene H. Sánchez - ECPv5.14.1//NONSGML v1.0//EN
CALSCALE:GREGORIAN
METHOD:PUBLISH
X-WR-CALNAME:5Ritmos con Irene H. Sánchez
X-ORIGINAL-URL:https://irene5ritmos.com
X-WR-CALDESC:Eventos para 5Ritmos con Irene H. Sánchez
BEGIN:VTIMEZONE
TZID:Europe/Madrid
BEGIN:DAYLIGHT
TZOFFSETFROM:+0100
TZOFFSETTO:+0200
TZNAME:CEST
DTSTART:20180325T010000
END:DAYLIGHT
BEGIN:STANDARD
TZOFFSETFROM:+0200
TZOFFSETTO:+0100
TZNAME:CET
DTSTART:20181028T010000
END:STANDARD
END:VTIMEZONE
BEGIN:VEVENT
DTSTART;VALUE=DATE:20180617
DTEND;VALUE=DATE:20180618
DTSTAMP:20260424T150024
CREATED:20170825T174115Z
LAST-MODIFIED:20170825T174115Z
UID:1491-1529193600-1529279999@irene5ritmos.com
SUMMARY:Ciclo Albacete. Taller 5: El descenso (Lírico y Quietud)
DESCRIPTION:Albacete
URL:https://irene5ritmos.com/event/ciclo-albacete-taller-5-el-descenso-lirico-y-quietud
LOCATION:Albacete
ORGANIZER;CN="Carolina%20Moreno%20Gento":MAILTO:caromgento@gmail.com
END:VEVENT
END:VCALENDAR