BEGIN:VCALENDAR
VERSION:2.0
PRODID:-//5Ritmos con Irene H. Sánchez - ECPv5.14.1//NONSGML v1.0//EN
CALSCALE:GREGORIAN
METHOD:PUBLISH
X-WR-CALNAME:5Ritmos con Irene H. Sánchez
X-ORIGINAL-URL:https://irene5ritmos.com
X-WR-CALDESC:Eventos para 5Ritmos con Irene H. Sánchez
BEGIN:VTIMEZONE
TZID:Europe/Madrid
BEGIN:DAYLIGHT
TZOFFSETFROM:+0100
TZOFFSETTO:+0200
TZNAME:CEST
DTSTART:20180325T010000
END:DAYLIGHT
BEGIN:STANDARD
TZOFFSETFROM:+0200
TZOFFSETTO:+0100
TZNAME:CET
DTSTART:20181028T010000
END:STANDARD
END:VTIMEZONE
BEGIN:VEVENT
DTSTART;VALUE=DATE:20180610
DTEND;VALUE=DATE:20180611
DTSTAMP:20260424T212428
CREATED:20170825T174203Z
LAST-MODIFIED:20170825T174203Z
UID:1493-1528588800-1528675199@irene5ritmos.com
SUMMARY:Ciclo Murcia. Taller 5: Renacer
DESCRIPTION:INTO: Ciclo de talleres en Murcia
URL:https://irene5ritmos.com/event/ciclo-murcia-taller-5-renacer
LOCATION:Olimpic Club\,  Senda de Granada\, 166\,\, Murcia\, Murcia\, 30007\, España
END:VEVENT
END:VCALENDAR