BEGIN:VCALENDAR
VERSION:2.0
PRODID:-//5Ritmos con Irene H. Sánchez - ECPv5.14.1//NONSGML v1.0//EN
CALSCALE:GREGORIAN
METHOD:PUBLISH
X-WR-CALNAME:5Ritmos con Irene H. Sánchez
X-ORIGINAL-URL:https://irene5ritmos.com
X-WR-CALDESC:Eventos para 5Ritmos con Irene H. Sánchez
BEGIN:VTIMEZONE
TZID:Europe/Madrid
BEGIN:DAYLIGHT
TZOFFSETFROM:+0100
TZOFFSETTO:+0200
TZNAME:CEST
DTSTART:20180325T010000
END:DAYLIGHT
BEGIN:STANDARD
TZOFFSETFROM:+0200
TZOFFSETTO:+0100
TZNAME:CET
DTSTART:20181028T010000
END:STANDARD
END:VTIMEZONE
BEGIN:VEVENT
DTSTART;TZID=Europe/Madrid:20180629T201500
DTEND;TZID=Europe/Madrid:20180629T220000
DTSTAMP:20260424T035418
CREATED:20170825T174021Z
LAST-MODIFIED:20180528T155922Z
UID:1489-1530303300-1530309600@irene5ritmos.com
SUMMARY:Clase 5R Olimpic Club Murcia con Irene: ESPECIAL SOLSTICIO VERANO. MÚSICA EN DIRECTO
DESCRIPTION:http://irene5ritmos.com/olimpicclub
URL:https://irene5ritmos.com/event/clase-5r-olimpic-club-murcia-19
LOCATION:Olimpic Club\,  Senda de Granada\, 166\,\, Murcia\, Murcia\, 30007\, España
END:VEVENT
END:VCALENDAR