BEGIN:VCALENDAR
VERSION:2.0
PRODID:-//5Ritmos con Irene H. Sánchez - ECPv5.14.1//NONSGML v1.0//EN
CALSCALE:GREGORIAN
METHOD:PUBLISH
X-WR-CALNAME:5Ritmos con Irene H. Sánchez
X-ORIGINAL-URL:https://irene5ritmos.com
X-WR-CALDESC:Eventos para 5Ritmos con Irene H. Sánchez
BEGIN:VTIMEZONE
TZID:Europe/Madrid
BEGIN:DAYLIGHT
TZOFFSETFROM:+0100
TZOFFSETTO:+0200
TZNAME:CEST
DTSTART:20180325T010000
END:DAYLIGHT
BEGIN:STANDARD
TZOFFSETFROM:+0200
TZOFFSETTO:+0100
TZNAME:CET
DTSTART:20181028T010000
END:STANDARD
END:VTIMEZONE
BEGIN:VEVENT
DTSTART;TZID=Europe/Madrid:20180919T110000
DTEND;TZID=Europe/Madrid:20180923T180000
DTSTAMP:20260423T162447
CREATED:20180822T085942Z
LAST-MODIFIED:20180918T141510Z
UID:1889-1537354800-1537725600@irene5ritmos.com
SUMMARY:CYCLES con Tammy Burnstein. BARCELONA
DESCRIPTION:http://danzando5ritmos.com/cycles-con-tammy-burstein/
URL:https://irene5ritmos.com/event/cycles-con-tammy-burnstein-barcelona
END:VEVENT
END:VCALENDAR