BEGIN:VCALENDAR
VERSION:2.0
PRODID:-//5Ritmos con Irene H. Sánchez - ECPv5.14.1//NONSGML v1.0//EN
CALSCALE:GREGORIAN
METHOD:PUBLISH
X-WR-CALNAME:5Ritmos con Irene H. Sánchez
X-ORIGINAL-URL:https://irene5ritmos.com
X-WR-CALDESC:Eventos para 5Ritmos con Irene H. Sánchez
BEGIN:VTIMEZONE
TZID:Europe/Madrid
BEGIN:DAYLIGHT
TZOFFSETFROM:+0100
TZOFFSETTO:+0200
TZNAME:CEST
DTSTART:20180325T010000
END:DAYLIGHT
BEGIN:STANDARD
TZOFFSETFROM:+0200
TZOFFSETTO:+0100
TZNAME:CET
DTSTART:20181028T010000
END:STANDARD
END:VTIMEZONE
BEGIN:VEVENT
DTSTART;TZID=Europe/Madrid:20180927T160000
DTEND;TZID=Europe/Madrid:20180930T173000
DTSTAMP:20260423T143536
CREATED:20180228T190631Z
LAST-MODIFIED:20180228T190631Z
UID:1694-1538064000-1538328600@irene5ritmos.com
SUMMARY:LW3: Residencial 5Ritmos Teatro Ritual con Lorca Simons
DESCRIPTION:Live Wire: Paisajes Eléctricos. Residencial Internacional de 5Ritmos Teatro Ritual. Lorca Simons\, Thierry Francois e Irene Hernández. ALMERÍA 27-30 SEPTIEMBRE
URL:https://irene5ritmos.com/event/lw3-residencial-5ritmos-teatro-ritual-con-lorca-simons
LOCATION:Cortijo Los Baños- Al Hamam- Almería\, Cortijo Los Baños\, S/N Lucainena de las Torres. \, Lucainena de las Torres\, Almería\, 04210\, España
END:VEVENT
END:VCALENDAR