BEGIN:VCALENDAR
VERSION:2.0
PRODID:-//5Ritmos con Irene H. Sánchez - ECPv5.14.1//NONSGML v1.0//EN
CALSCALE:GREGORIAN
METHOD:PUBLISH
X-WR-CALNAME:5Ritmos con Irene H. Sánchez
X-ORIGINAL-URL:https://irene5ritmos.com
X-WR-CALDESC:Eventos para 5Ritmos con Irene H. Sánchez
BEGIN:VTIMEZONE
TZID:Europe/Madrid
BEGIN:DAYLIGHT
TZOFFSETFROM:+0100
TZOFFSETTO:+0200
TZNAME:CEST
DTSTART:20160327T010000
END:DAYLIGHT
BEGIN:STANDARD
TZOFFSETFROM:+0200
TZOFFSETTO:+0100
TZNAME:CET
DTSTART:20161030T010000
END:STANDARD
END:VTIMEZONE
BEGIN:VEVENT
DTSTART;TZID=Europe/Madrid:20160715T180000
DTEND;TZID=Europe/Madrid:20160715T200000
DTSTAMP:20260423T125000
CREATED:20160627T104716Z
LAST-MODIFIED:20160627T104716Z
UID:559-1468605600-1468612800@irene5ritmos.com
SUMMARY:REDES. Clase especial de 5Ritmos
DESCRIPTION:Una clase veraniega para contactar contigo mismo\, para conocer o profundizar en los 5Ritmos\, para dejarte llevar por la Ola. \nEs necesario confirmar asistencia por whatsapp o llamando al 651733875
URL:https://irene5ritmos.com/event/redes-clase-especial-de-5ritmos
LOCATION:REDES Instituto Sistémico de Murcia\, Callejón de Burruezo 1\, 5º A\, Murcia\, Murcia\, 30005\, España
END:VEVENT
END:VCALENDAR