BEGIN:VCALENDAR
VERSION:2.0
PRODID:-//5Ritmos con Irene H. Sánchez - ECPv5.14.1//NONSGML v1.0//EN
CALSCALE:GREGORIAN
METHOD:PUBLISH
X-WR-CALNAME:5Ritmos con Irene H. Sánchez
X-ORIGINAL-URL:https://irene5ritmos.com
X-WR-CALDESC:Eventos para 5Ritmos con Irene H. Sánchez
BEGIN:VTIMEZONE
TZID:Europe/Madrid
BEGIN:DAYLIGHT
TZOFFSETFROM:+0100
TZOFFSETTO:+0200
TZNAME:CEST
DTSTART:20180325T010000
END:DAYLIGHT
BEGIN:STANDARD
TZOFFSETFROM:+0200
TZOFFSETTO:+0100
TZNAME:CET
DTSTART:20181028T010000
END:STANDARD
END:VTIMEZONE
BEGIN:VEVENT
DTSTART;TZID=Europe/Madrid:20180622T190000
DTEND;TZID=Europe/Madrid:20180624T170000
DTSTAMP:20260424T100132
CREATED:20171227T185129Z
LAST-MODIFIED:20180228T190229Z
UID:1638-1529694000-1529859600@irene5ritmos.com
SUMMARY:TALLER EN GERONA: ESPECIAL SAN JUAN
DESCRIPTION:LITHA – Retiro Ritual de 5Ritmos® con Irene en Girona. 22-24 Junio. Organizado por Little Waves Bcn
URL:https://irene5ritmos.com/event/taller-en-gerona-especial-san-juan
ORGANIZER;CN="Little%20Waves%20Bcn":MAILTO:littlewavesbcn@gmail.com
END:VEVENT
END:VCALENDAR