BEGIN:VCALENDAR
VERSION:2.0
PRODID:-//5Ritmos con Irene H. Sánchez - ECPv5.14.1//NONSGML v1.0//EN
CALSCALE:GREGORIAN
METHOD:PUBLISH
X-WR-CALNAME:5Ritmos con Irene H. Sánchez
X-ORIGINAL-URL:https://irene5ritmos.com
X-WR-CALDESC:Eventos para 5Ritmos con Irene H. Sánchez
BEGIN:VTIMEZONE
TZID:Europe/Madrid
BEGIN:DAYLIGHT
TZOFFSETFROM:+0100
TZOFFSETTO:+0200
TZNAME:CEST
DTSTART:20160327T010000
END:DAYLIGHT
BEGIN:STANDARD
TZOFFSETFROM:+0200
TZOFFSETTO:+0100
TZNAME:CET
DTSTART:20161030T010000
END:STANDARD
END:VTIMEZONE
BEGIN:VEVENT
DTSTART;TZID=Europe/Madrid:20160527T081500
DTEND;TZID=Europe/Madrid:20160527T220000
DTSTAMP:20260424T192705
CREATED:20160129T145807Z
LAST-MODIFIED:20160524T153409Z
UID:386-1464336900-1464386400@irene5ritmos.com
SUMMARY:"Rhythms gateways": Respiración.Viernes en Olimpic Club
DESCRIPTION:Si no respiramos\, estamos muertos. \nLa respiración es el sostén de nuestro movimiento y nuestra vida. A través de ella habitamos nuestro cuerpo y encarnamos lo que somos. Es la fuente vital que nos hace estar presentes. El ancla que nos seduce al aquí y ahora e inspira a nuestro cuerpo\, corazón\, mente y alma. \nTerminamos con el ciclo: «Rhythms Gateways»\, explorando las puertas de cada ritmo. Practicando\, en esta sesión\, la puerta hacia la quietud: la respiración. Origen de todos los ritmos y éter que los envuelve a todos. \nNo es necesaria experiencia previa\, conocimientos técnicos ni condición física. Sólo tus ganas de explorar tu propio movimiento en compañía del grupo. \nViernes de 20.15 a 22.15h \nUn espacio para profundizar en el mapa de 5Ritmos con la práctica continuada en grupo grande. Con propuestas de trabajo pautadas y espacios de exploración libre. \nPuedes venir a sesiones sueltas o a los Ciclos Completos de 5 sesiones seguidas. Hay una continuidad en el trabajo pero cada clase está diseñada para que puedas participar de forma suelta sin tener experiencia previa o continuar profundizando en tu práctica. \nPrecio: \nSesión suelta: 15/12 euros desemp\, estud\, +65 \nBono de 10 sesiones: 120/110 euros desemp\, estud\, +65 \nBono de 5 sesiones: 60/55 euros desemp\, estud\, +65 \nGratuito para abonados del Olimpic Club
URL:https://irene5ritmos.com/event/viernes-en-olimpic-club-14
LOCATION:Olimpic Club\,  Senda de Granada\, 166\,\, Murcia\, Murcia\, 30007\, España
ATTACH;FMTTYPE=image/png:https://irene5ritmos.com/wp-content/uploads/2015/10/olimpic.png
END:VEVENT
END:VCALENDAR