BEGIN:VCALENDAR
VERSION:2.0
PRODID:-//5Ritmos con Irene H. Sánchez - ECPv5.14.1//NONSGML v1.0//EN
CALSCALE:GREGORIAN
METHOD:PUBLISH
X-WR-CALNAME:5Ritmos con Irene H. Sánchez
X-ORIGINAL-URL:https://irene5ritmos.com
X-WR-CALDESC:Eventos para 5Ritmos con Irene H. Sánchez
BEGIN:VTIMEZONE
TZID:Europe/Madrid
BEGIN:DAYLIGHT
TZOFFSETFROM:+0100
TZOFFSETTO:+0200
TZNAME:CEST
DTSTART:20160327T010000
END:DAYLIGHT
BEGIN:STANDARD
TZOFFSETFROM:+0200
TZOFFSETTO:+0100
TZNAME:CET
DTSTART:20161030T010000
END:STANDARD
END:VTIMEZONE
BEGIN:VEVENT
DTSTART;TZID=Europe/Madrid:20160624T081500
DTEND;TZID=Europe/Madrid:20160624T220000
DTSTAMP:20260423T225938
CREATED:20160129T150226Z
LAST-MODIFIED:20160129T150226Z
UID:390-1466756100-1466805600@irene5ritmos.com
SUMMARY:Viernes en Olimpic Club
DESCRIPTION:“¿Quién\, si no tú mismo\, puede bailar tu propia danza?” Gabrielle Roth\nClases semanales \nViernes de 20.15 a 22.15h \nUn espacio para profundizar en el mapa de 5Ritmos con la práctica continuada en grupo grande. Con propuestas de trabajo pautadas y espacios de exploración libre. \nPuedes venir a sesiones sueltas o a los Ciclos Completos de 5 sesiones seguidas. Hay una continuidad en el trabajo pero cada clase está diseñada para que puedas participar de forma suelta sin tener experiencia previa o continuar profundizando en tu práctica. \nNo es necesaria experiencia previa\, conocimientos técnicos ni condición física. Sólo tus ganas de explorar tu propio movimiento en compañía del grupo. \nPrecio: \nSesión suelta: 15/12 euros desemp\, estud\, +65 \nBono de 10 sesiones: 120/110 euros desemp\, estud\, +65 \nBono de 5 sesiones: 60/55 euros desemp\, estud\, +65 \nGratuito para abonados del Olimpic Club
URL:https://irene5ritmos.com/event/viernes-en-olimpic-club-18
LOCATION:Olimpic Club\,  Senda de Granada\, 166\,\, Murcia\, Murcia\, 30007\, España
ATTACH;FMTTYPE=image/png:https://irene5ritmos.com/wp-content/uploads/2015/10/olimpic.png
END:VEVENT
END:VCALENDAR